BEGIN:VCALENDAR
VERSION:2.0
PRODID:-//Evergreen Chamber Orchestra - ECPv6.15.20//NONSGML v1.0//EN
CALSCALE:GREGORIAN
METHOD:PUBLISH
X-WR-CALNAME:Evergreen Chamber Orchestra
X-ORIGINAL-URL:https://evergreenchamberorch.org
X-WR-CALDESC:Events for Evergreen Chamber Orchestra
REFRESH-INTERVAL;VALUE=DURATION:PT1H
X-Robots-Tag:noindex
X-PUBLISHED-TTL:PT1H
BEGIN:VTIMEZONE
TZID:America/Denver
BEGIN:DAYLIGHT
TZOFFSETFROM:-0700
TZOFFSETTO:-0600
TZNAME:MDT
DTSTART:20240310T090000
END:DAYLIGHT
BEGIN:STANDARD
TZOFFSETFROM:-0600
TZOFFSETTO:-0700
TZNAME:MST
DTSTART:20241103T080000
END:STANDARD
BEGIN:DAYLIGHT
TZOFFSETFROM:-0700
TZOFFSETTO:-0600
TZNAME:MDT
DTSTART:20250309T090000
END:DAYLIGHT
BEGIN:STANDARD
TZOFFSETFROM:-0600
TZOFFSETTO:-0700
TZNAME:MST
DTSTART:20251102T080000
END:STANDARD
BEGIN:DAYLIGHT
TZOFFSETFROM:-0700
TZOFFSETTO:-0600
TZNAME:MDT
DTSTART:20260308T090000
END:DAYLIGHT
BEGIN:STANDARD
TZOFFSETFROM:-0600
TZOFFSETTO:-0700
TZNAME:MST
DTSTART:20261101T080000
END:STANDARD
END:VTIMEZONE
BEGIN:VEVENT
DTSTART;TZID=America/Denver:20251123T150000
DTEND;TZID=America/Denver:20251123T170000
DTSTAMP:20260421T044012
CREATED:20250906T215831Z
LAST-MODIFIED:20251102T213211Z
UID:10000172-1763910000-1763917200@evergreenchamberorch.org
SUMMARY:Virtual Ticket - 2025-2026 Masterworks Concert Series Fall Concert - Denver
DESCRIPTION:2025-2026 Season Masterworks Concert Series\nFall Concert\nDenver Performance\nLive-Stream Ticket Only!\nJoin us for a program of thought-provoking music that spans the human experience from heartfelt introspection to unbridled joy. The concert begins with the achingly beautiful Adagietto from Gustav Mahler’s Symphony No. 5\, a lyrical and intimate movement that is often considered a wordless love letter. \nNext\, longtime ECO pianist Peggy Lyon returns to perform J.S. Bach’s Keyboard Concerto No. 3\, BWV 1054 in D Major. Modeled after the famous E-Major Violin Concerto BWV 1042 but transposed to D Major to reach the highest key on the harpsichords of the day\, Bach’s third keyboard concerto uses da capo ABA form in the first movement – a rare occurrence in Bach’s oeuvre. \nThe program concludes with Johannes Brahms’ magnificent Symphony No. 2\, a work of rich orchestration that moves from pastoral serenity to a triumphant and exhilarating finale. \nPROGRAM:\nGUSTAV MAHLER\nSymphony No. 5 in C-Sharp Minor \nIV – Adagietto \nJOHANN SEBASTIAN BACH\nKeyboard Concerto No. 3 in D Major\, BWV 1054 \nI – Allegro \nII – Adagio \nIII – Allegro \nPeggy Lyon – Piano \nJOHANNES BRAHMS\nSymphony No. 2 in D Major\, Op. 73 \nI – Allegro non troppo \nII – Adagio non troppo \nIII – Allegretto grazioso (quasi andantino) \nIV – Allegro con spirito \n  \nAll tickets to ECO Concerts and Events now include links to access the live-stream and video-on-demand replay of the concert! \nCan’t watch the concert at the time of the performance? You can watch the stream anytime that is convenient for you – forever. \nLooking for in-person tickets to this event? Click here!
URL:https://evergreenchamberorch.org/event/2025-2026-masterworks-concert-series-fall-concert-denver-live-stream/
LOCATION:Bethany Lutheran Church\, 4500 E Hampden Ave\, Cherry Hills Village\, CO\, 80113\, United States
CATEGORIES:Live-Stream Only,Masterworks Concert Series
ATTACH;FMTTYPE=image/png:https://evergreenchamberorch.org/wp-content/uploads/2025/09/2526-MW2-Denver-Event-Image.png
ORGANIZER;CN="Evergreen Chamber Orchestra":MAILTO:board@evergreenchamberorch.org
END:VEVENT
BEGIN:VEVENT
DTSTART;TZID=America/Denver:20251123T150000
DTEND;TZID=America/Denver:20251123T170000
DTSTAMP:20260421T044012
CREATED:20250906T214932Z
LAST-MODIFIED:20250906T215915Z
UID:10000171-1763910000-1763917200@evergreenchamberorch.org
SUMMARY:2025-2026 Masterworks Concert Series Fall Concert - Denver
DESCRIPTION:2025-2026 Season Masterworks Concert Series\nFall Concert\nDenver Performance\nJoin us for a program of thought-provoking music that spans the human experience from heartfelt introspection to unbridled joy. The concert begins with the achingly beautiful Adagietto from Gustav Mahler’s Symphony No. 5\, a lyrical and intimate movement that is often considered a wordless love letter. \nNext\, longtime ECO pianist Peggy Lyon returns to perform J.S. Bach’s Keyboard Concerto No. 3\, BWV 1054 in D Major. Modeled after the famous E-Major Violin Concerto BWV 1042 but transposed to D Major to reach the highest key on the harpsichords of the day\, Bach’s third keyboard concerto uses da capo ABA form in the first movement – a rare occurrence in Bach’s oeuvre. \nThe program concludes with Johannes Brahms’ magnificent Symphony No. 2\, a work of rich orchestration that moves from pastoral serenity to a triumphant and exhilarating finale. \nPROGRAM:\nGUSTAV MAHLER\nSymphony No. 5 in C-Sharp Minor \nIV – Adagietto \nJOHANN SEBASTIAN BACH\nKeyboard Concerto No. 3 in D Major\, BWV 1054 \nI – Allegro \nII – Adagio \nIII – Allegro \nPeggy Lyon – Piano \nJOHANNES BRAHMS\nSymphony No. 2 in D Major\, Op. 73 \nI – Allegro non troppo \nII – Adagio non troppo \nIII – Allegretto grazioso (quasi andantino) \nIV – Allegro con spirito \n  \nAll tickets to ECO Concerts and Events now include links to access the live-stream and video-on-demand replay of the concert! \nCan’t watch the concert at the time of the performance? You can watch the stream anytime that is convenient for you – forever. \nLooking for Live-Stream Only tickets to this event? Click here!
URL:https://evergreenchamberorch.org/event/2025-2026-masterworks-concert-series-fall-concert-denver/
LOCATION:Bethany Lutheran Church\, 4500 E Hampden Ave\, Cherry Hills Village\, CO\, 80113\, United States
CATEGORIES:Masterworks Concert Series
ATTACH;FMTTYPE=image/png:https://evergreenchamberorch.org/wp-content/uploads/2025/09/2526-MW2-Denver-Event-Image.png
ORGANIZER;CN="Evergreen Chamber Orchestra":MAILTO:board@evergreenchamberorch.org
END:VEVENT
END:VCALENDAR